BEGIN:VCALENDAR
PRODID:-//AT Content Types//AT Event//EN
VERSION:2.0
METHOD:PUBLISH
BEGIN:VEVENT
DTSTAMP:20260424T045404Z
CREATED:20111120T213804Z
UID:ATEvent-ebf895efb9e9a947c4b6355f8e959307
LAST-MODIFIED:20111121T080434Z
SUMMARY:Tamás-mise Marcaltőn
DTSTART:20111203T140000Z
DTEND:20111203T160000Z
DESCRIPTION:2011 adventjében tartunk először Tamás-misét Veszpré
 m megyében. Várjuk a megye és a környék fiataljait december 3-án
 \, szombaton 15 órától a marcaltői kultúrházban.\nAz alkalom a F
 acebookon\: http\://www.facebook.com/event.php?eid=242858859109081
LOCATION:Marcaltő (kultúrház)
CATEGORIES:istentisztelet,evangélikus,ifjúság
CONTACT:Weltler Gábor\, +36-20/824-62-57\, gabor.weltler@lutheran.hu
URL:http://www.facebook.com/event.php?eid=242858859109081
CLASS:PUBLIC
END:VEVENT
END:VCALENDAR
