BEGIN:VCALENDAR
PRODID:-//AT Content Types//AT Event//EN
VERSION:2.0
METHOD:PUBLISH
BEGIN:VEVENT
DTSTAMP:20260424T183925Z
CREATED:20110317T092621Z
UID:ATEvent-92d46076eb0211a7936350b85fd8cfb2
LAST-MODIFIED:20110317T095354Z
SUMMARY:Zuglói Zenés Esték 7.
DTSTART:20110320T170000Z
DTEND:20110320T183000Z
LOCATION:Budapest-Zugló
CATEGORIES:hangverseny
CONTACT:Kéménczy Antal\, 06-30-638-4994\, antonio@vipmail.hu
URL:http://www.zugestek.hu/zugest_koncertek.php?id=fooldal
CLASS:PUBLIC
END:VEVENT
END:VCALENDAR
