BEGIN:VCALENDAR
PRODID:-//AT Content Types//AT Event//EN
VERSION:2.0
METHOD:PUBLISH
BEGIN:VEVENT
DTSTAMP:20260425T024320Z
CREATED:20101119T105416Z
UID:ATEvent-f9af3c273b56233a6dc87115ca5b07c2
LAST-MODIFIED:20101119T155053Z
SUMMARY:Zuglói Zenés Esték 2.
DTSTART:20101125T170000Z
DTEND:20101125T183000Z
LOCATION:Budapest-Zugló
CATEGORIES:hangverseny
CONTACT:Kéménczy Antal\, 06-30-638-4994\, antonio@vipmail.hu
URL:http://www.zugestek.hu/zugest_koncertek.php
CLASS:PUBLIC
END:VEVENT
END:VCALENDAR
