BEGIN:VCALENDAR
PRODID:-//AT Content Types//AT Event//EN
VERSION:1.0
BEGIN:VEVENT
DTSTART:20120219T170000Z
DTEND:20120219T183000Z
DCREATED:20120209T160517Z
UID:ATEvent-29bcac01a90128ac623c929d15c3c6a2
SEQUENCE:0
LAST-MODIFIED:20120213T141900Z
SUMMARY:Gárdonyi Zoltán emlékestet tartanak a zuglói evangélikus templomban
DESCRIPTION:„Hommage á Gárdonyi” címmel Gárdonyi Zoltán emlé
 kestet tartanak a zuglói evangélikus templomban.
LOCATION:Budapest
PRIORITY:3
TRANSP:0
END:VEVENT
END:VCALENDAR
