BEGIN:VCALENDAR
PRODID:-//AT Content Types//AT Event//EN
VERSION:1.0
BEGIN:VEVENT
DTSTART:20120520T160000Z
DTEND:20120520T173000Z
DCREATED:20120515T094708Z
UID:ATEvent-76e31719b064be1c6097d427e2e234e4
SEQUENCE:0
LAST-MODIFIED:20120516T131257Z
SUMMARY:Zuglói zenés áhítat
LOCATION:Budapest-Zugló
PRIORITY:3
TRANSP:0
END:VEVENT
END:VCALENDAR
