BEGIN:VCALENDAR
PRODID:-//AT Content Types//AT Event//EN
VERSION:1.0
BEGIN:VEVENT
DTSTART:20101219T170000Z
DTEND:20101219T183000Z
DCREATED:20101217T085359Z
UID:ATEvent-22458be5e6b5d5f109aae106c42899d2
SEQUENCE:0
LAST-MODIFIED:20101218T130108Z
SUMMARY:Karácsonyi koncert
DESCRIPTION:A 8in1 singers ("nyolcan egyek Krisztusban") együttes kar
 ácsonyi koncertje.
LOCATION:Budapest-Zugló
PRIORITY:3
TRANSP:0
END:VEVENT
END:VCALENDAR
