BEGIN:VCALENDAR
PRODID:-//AT Content Types//AT Event//EN
VERSION:1.0
BEGIN:VEVENT
DTSTART:20111208T170000Z
DTEND:20111208T180000Z
DCREATED:20111202T125054Z
UID:ATEvent-a83546e478126ff6f9384b6884ed5540
SEQUENCE:0
LAST-MODIFIED:20111203T144647Z
SUMMARY:Adventi Zenés Áhítat Zuglóban
LOCATION:Budapest-Zugló
PRIORITY:3
TRANSP:0
END:VEVENT
END:VCALENDAR
