BEGIN:VCALENDAR
PRODID:-//AT Content Types//AT Event//EN
VERSION:2.0
METHOD:PUBLISH
BEGIN:VEVENT
DTSTAMP:20260426T015944Z
CREATED:20090331T194307Z
UID:ATEvent-32029026ae4ff9a00d7b1869994db6a1
LAST-MODIFIED:20090401T065800Z
SUMMARY:Négy kísértés - a kaposvári ifjúság passió-körútja
DTSTART:20090405T090000Z
DTEND:20090410T170000Z
DESCRIPTION:Négy kísértés című színdarabunk Jézus Krisztus sze
 nvedéstörténetének sajátos értelmezése. A darabnak nem célja s
 em a Bibliához való hűség\, sem a történelmi hitelesség. Nem ar
 ra keressük a választ\, hogyan történtek az események\, hanem arr
 a\, hogy mi történt. A jelenetek cselekménye tehát szimbolikus ér
 telmű.
LOCATION:Kaposvár\, Lulla\, Tab\, Somogyvámos\, Hács\, Balatonboglár
CATEGORIES:ifjúság
URL:http://kaposvar.lutheran.hu és http://tab.lutheran.hu
CLASS:PUBLIC
END:VEVENT
END:VCALENDAR
