BEGIN:VCALENDAR
PRODID:-//AT Content Types//AT Event//EN
VERSION:2.0
METHOD:PUBLISH
BEGIN:VEVENT
DTSTAMP:20260426T031127Z
CREATED:20100119T124155Z
UID:ATEvent-8531979ef6288a9fb641e380cb488af8
LAST-MODIFIED:20100119T124650Z
SUMMARY:A Magyar Kultúra Napján koncert Dunaújvárosban
DTSTART:20100122T170000Z
DTEND:20100122T184000Z
DESCRIPTION:Január 22-én (a Magyar Kultúra Napján) 18 órától 
 Pro Kultúra Intercisa”-díjátadás keretében a FOUR BONES QUARTE
 T fúvósötös koncertje lesz a dunaújvárosi evangélikus templomba
 n. A belépés díjmentes.
LOCATION:Dunaújváros Evangélikus Templom
CATEGORIES:Dunaújváros
CONTACT:Stermeczki András\, 20-824-3547\, stermo@freemail.hu
CLASS:PUBLIC
END:VEVENT
END:VCALENDAR
