BEGIN:VCALENDAR
PRODID:-//AT Content Types//AT Event//EN
VERSION:2.0
METHOD:PUBLISH
BEGIN:VEVENT
DTSTAMP:20260424T044432Z
CREATED:20110119T084234Z
UID:ATEvent-8f0a511c8fc5f3734fc3f55523445d0c
LAST-MODIFIED:20110119T133431Z
SUMMARY:Telemann kantáták a Deák téren I.
DTSTART:20110501T090000Z
DTEND:20110501T101500Z
DESCRIPTION:A 11 órás istentisztelet keretében elhangzik G. Ph. TEL
 EMANN\: Auf ehernen Mauern című kantátája.
CATEGORIES:Lutheránia
CONTACT:Herényi István\, 06-20-8244548\, herenyi.istvan@compargo.hu
URL:http://lutherania.lutheran.hu
CLASS:PUBLIC
END:VEVENT
END:VCALENDAR
