BEGIN:VCALENDAR
PRODID:-//AT Content Types//AT Event//EN
VERSION:2.0
METHOD:PUBLISH
BEGIN:VEVENT
DTSTAMP:20260426T021546Z
CREATED:20120928T110011Z
UID:ATEvent-085aca35cbd3d12f22fa6bd092e8a342
LAST-MODIFIED:20120928T122020Z
SUMMARY:Kantátazenés istentisztelet a Deák téren (BWV 117)
DTSTART:20121028T100000Z
DTEND:20121028T111500Z
DESCRIPTION:A 11 órás istentisztelet keretében elhangzik J.S.Bach\:
  Sei Lob und Ehr dem höchsten Gut (BWV 117) kantátája
LOCATION:Deák téri evangélikus templom
CATEGORIES:Lutheránia
CONTACT:Herényi István\, 06-20-8244548\, lutherania@lutheran.hu
URL:http://lutherania.lutheran.hu
CLASS:PUBLIC
END:VEVENT
END:VCALENDAR
