BEGIN:VCALENDAR
PRODID:-//AT Content Types//AT Event//EN
VERSION:1.0
BEGIN:VEVENT
DTSTART:20120930T090000Z
DTEND:20120930T101500Z
DCREATED:20120928T090242Z
UID:ATEvent-39cc95614f4ccf940427217abd3b7c7f
SEQUENCE:0
LAST-MODIFIED:20120928T090637Z
SUMMARY:Kantátazenés istentisztelet a Deák téren (BWV 114)
DESCRIPTION:A Deák téren a 11 órás istentisztelet keretében előa
 dják J.S.Bach\: Ach\, lieben Christen\, seid getrost (BWV 114) kantá
 táját
LOCATION:Deák téri evangélikus templom
PRIORITY:3
TRANSP:0
END:VEVENT
END:VCALENDAR
