BEGIN:VCALENDAR
PRODID:-//AT Content Types//AT Event//EN
VERSION:1.0
BEGIN:VEVENT
DTSTART:20111013T140000Z
DTEND:20111013T160000Z
DCREATED:20110904T072518Z
UID:ATEvent-dfe1eab3ca0985c0ea130a91d52fb1c0
SEQUENCE:0
LAST-MODIFIED:20110913T132842Z
SUMMARY:Dunántúli könyvbemutató a Nemzeti Múzeumban
DESCRIPTION:A Nemzeti Múzeum Széchenyi termében tartja a Dunántúl
 i Evangélikus Egyházkerület a 2011. júniusában „A reformációt
 ól – napjainkig” címmel megjelent kötetek bemutatóját. Az egy
 házkerület történetét bemutató kétkötetes kiadványt dr. Hudi 
 József\, a pápai Református Gyűjtemény főlevéltárosa mutatja b
 e.
LOCATION:Budapest\, Nemzeti Múzeum\, Széchenyi terem
PRIORITY:3
TRANSP:0
END:VEVENT
END:VCALENDAR
