BEGIN:VCALENDAR
PRODID:-//AT Content Types//AT Event//EN
VERSION:2.0
METHOD:PUBLISH
BEGIN:VEVENT
DTSTAMP:20260424T042231Z
CREATED:20100115T091243Z
UID:ATEvent-51727f81e1c3e9025ecc24ead61e0656
LAST-MODIFIED:20100115T091936Z
SUMMARY:Ökumenikus imahét 2010 – Pestszentlőrinc – Pestszentimre
DTSTART:20100118T170000Z
DTEND:20100123T170000Z
DESCRIPTION:A pestszentlőrinci és pestszentimrei gyülekezetek (Buda
 pest XVIII. kerület) imaheti alkalmai 2010. jan. 18-23. között mind
 en este 6 órai kezdettel. A lőrinci és imrei imahét közös záró
  alkalommal fejeződik be.
CLASS:PUBLIC
END:VEVENT
END:VCALENDAR
