BEGIN:VCALENDAR
PRODID:-//AT Content Types//AT Event//EN
VERSION:1.0
BEGIN:VEVENT
DTSTART:20120116T150000Z
DTEND:20120122T150000Z
DCREATED:20120116T102931Z
UID:ATEvent-bc00f2252c3398c739d1bde9a5f656fd
SEQUENCE:0
LAST-MODIFIED:20120116T111028Z
SUMMARY:Imaheti szolgálatok Kecskeméten és környékén
DESCRIPTION:\,\,Mindannyian el fogunk változni a mi Urunk Jézus Kris
 ztus által" (1Kor 15\,51) mottóval rendezik meg idén az ökumenikus
  imahetet a Krisztus-hívők egységéért 2012. január 16-22. közö
 tt.
LOCATION:Kecskemét
PRIORITY:3
TRANSP:0
END:VEVENT
END:VCALENDAR
