BEGIN:VCALENDAR
PRODID:-//AT Content Types//AT Event//EN
VERSION:2.0
METHOD:PUBLISH
BEGIN:VEVENT
DTSTAMP:20260423T045230Z
CREATED:20100412T162828Z
UID:ATEvent-7277045d09e2f75efb0033814936fd46
LAST-MODIFIED:20100412T171447Z
SUMMARY:Csendes csodÃ¡k
DTSTART:20100427T160000Z
DTEND:20100427T173000Z
DESCRIPTION:A LÅ‘rinci Ã‰rdeklÅ‘dÅ‘k TeahÃ¡za (LÃ‰T) kÃ¶vetkezÅ‘ vendÃ
 ©ge\: SchÃ¤ffer ErzsÃ©bet. IdÅ‘pont\: Ã¡prilis 27. (kedd) 18 Ã³ra. Hel
 yszÃ­n\: a pestszentlÅ‘rinci evangÃ©likus templom (XVIII. Kossuth tÃ©r
  3.)
URL:http://pestlorinc.lutheran.hu/events/csendes-csodak
CLASS:PUBLIC
END:VEVENT
END:VCALENDAR
