BEGIN:VCALENDAR
PRODID:-//AT Content Types//AT Event//EN
VERSION:2.0
METHOD:PUBLISH
BEGIN:VEVENT
DTSTAMP:20260423T223548Z
CREATED:20090722T114334Z
UID:ATEvent-ac8c961259506f8dbbfb431c7aac599f
LAST-MODIFIED:20090722T114420Z
SUMMARY:Tűzveszély koncert Pécsett
DTSTART:20090818T170000Z
DTEND:20090818T200000Z
DESCRIPTION:Augusztus harmadik hetében egy nagyszabású keresztény 
 rendezvénysorozat keretében könnyűzenei koncertekre is sor kerül 
 Pécsett. Augusztus 18-án\, a Szent István téren az Eucharist (19\:
 00) játszik\, majd őket követi a Tűzveszély! (21\:00).
LOCATION:Pécs
CLASS:PUBLIC
END:VEVENT
END:VCALENDAR
