BEGIN:VCALENDAR
PRODID:-//AT Content Types//AT Event//EN
VERSION:1.0
BEGIN:VEVENT
DTSTART:20110212T090000Z
DTEND:20110212T170000Z
DCREATED:20101005T161759Z
UID:ATEvent-a89acd589cba04e213183d7ad28fc089
SEQUENCE:0
LAST-MODIFIED:20110115T175123Z
SUMMARY:Szélrózsa-utótalálkozó lesz Budapesten
DESCRIPTION:2011. február 12-én Szélrózsa-utótalálkozó lesz Bud
 apesten. A rendezvény helyszíne\: Budapest\, Marczibányi Téri Műv
 elődési Központ.
LOCATION:Budapest
PRIORITY:3
TRANSP:0
END:VEVENT
END:VCALENDAR
