BEGIN:VCALENDAR
PRODID:-//AT Content Types//AT Event//EN
VERSION:2.0
METHOD:PUBLISH
BEGIN:VEVENT
DTSTAMP:20260426T021540Z
CREATED:20090708T161759Z
UID:ATEvent-a1b67c76f704b8cd2843a93cf967d28d
LAST-MODIFIED:20090708T162040Z
SUMMARY:Rát Mátyásra emlékezünk – MTV műsorajánló
DTSTART:20090712T080000Z
DTEND:20090712T114000Z
DESCRIPTION:RÁT MÁTYÁS címmel június 12-én\, vasárnap a Magyar 
 Televízióban az m1-en 10\:00 órai kezdettel emlékezünk a 260 éve
  született evangélikus lelkészre\, az első magyar nyelvű újság\
 , a Magyar Hírmondó alapítójára és szerkesztőjére\, Rát Máty
 ásra.
LOCATION:m1\, m2
CONTACT:Nagy László
CLASS:PUBLIC
END:VEVENT
END:VCALENDAR
