BEGIN:VCALENDAR
PRODID:-//AT Content Types//AT Event//EN
VERSION:2.0
METHOD:PUBLISH
BEGIN:VEVENT
DTSTAMP:20260424T183855Z
CREATED:20090720T061151Z
UID:ATEvent-cc07d62ed8cfb09e2045a88a1f61f4c9
LAST-MODIFIED:20090720T061500Z
SUMMARY:Passaui kórus koncertje Újpesten
DTSTART:20090802T080000Z
DTEND:20090802T090000Z
DESCRIPTION:Augusztus 2-án vasárnap 10-kor a passaui evangélikus gy
 ülekezet kórusa fog az istentiszteleten szolgálni\, így külön sz
 eretettel hívok mindenkit az alkalomra.
LOCATION:Budapest\, Újpest
CONTACT:Solymár Péter
CLASS:PUBLIC
END:VEVENT
END:VCALENDAR
