BEGIN:VCALENDAR
PRODID:-//AT Content Types//AT Event//EN
VERSION:1.0
BEGIN:VEVENT
DTSTART:20091210T090000Z
DTEND:20091210T110000Z
DCREATED:20091026T181030Z
UID:ATEvent-afa9c5316649ca8a98d5547e63a68347
SEQUENCE:0
LAST-MODIFIED:20091026T181153Z
SUMMARY:Özvegy papnék találkozója az Északi Egyházkerületben
DESCRIPTION:Budapest\, Püspöki Hivatal.
LOCATION:Budapest
PRIORITY:3
TRANSP:0
END:VEVENT
END:VCALENDAR
