BEGIN:VCALENDAR
PRODID:-//AT Content Types//AT Event//EN
VERSION:2.0
METHOD:PUBLISH
BEGIN:VEVENT
DTSTAMP:20260424T064151Z
CREATED:20090715T123750Z
UID:ATEvent-c71078c28097eb86065d666053817ab7
LAST-MODIFIED:20090715T123851Z
SUMMARY:Országos Evangélikus Konfirmandus és Ifjúsági Tábor
DTSTART:20090816T050000Z
DTEND:20090822T180000Z
DESCRIPTION:Révfülöp\, Ordass Lajos Evangélikus Oktatási Központ
 
LOCATION:Révfülöp\, Ordass Lajos Evangélikus Oktatási Központ
CONTACT:Pángyánszky Ágnes
CLASS:PUBLIC
END:VEVENT
END:VCALENDAR
