BEGIN:VCALENDAR
PRODID:-//AT Content Types//AT Event//EN
VERSION:1.0
BEGIN:VEVENT
DTSTART:20090612T120000Z
DTEND:20090612T150000Z
DCREATED:20090529T124235Z
UID:ATEvent-3c9ae34f42decac5df9c599e56702b13
SEQUENCE:0
LAST-MODIFIED:20090529T124301Z
SUMMARY:Ã–kumenikus kÃ¶zgyÅ±lÃ©s
DESCRIPTION:Az Ã–kumenikus TanulmÃ¡nyi KÃ¶zpont ez Ã©vi tanÃ¡cskozÃ¡sÃ
 ¡t 2009. jÃºnius 12-Ã©n (pÃ©nteken) du. 14.00 Ã³rai kezdettel tartja a
 z Ã–kumenikus KÃ¶zpont Ã©s Egyetemi LelkÃ©szsÃ©g Ã©pÃ¼letÃ©ben (Bp. XI
 . Magyar tudÃ³sok krt. 3.).
LOCATION:Budapest
PRIORITY:3
TRANSP:0
END:VEVENT
END:VCALENDAR
