BEGIN:VCALENDAR
PRODID:-//AT Content Types//AT Event//EN
VERSION:2.0
METHOD:PUBLISH
BEGIN:VEVENT
DTSTAMP:20260424T004532Z
CREATED:20090715T140119Z
UID:ATEvent-5a73d367af3e3c9845e5b786a60ffdc8
LAST-MODIFIED:20090715T140257Z
SUMMARY:Láthatatlan Színház műhely
DTSTART:20090824T130000Z
DTEND:20090829T130000Z
DESCRIPTION:A Láthatatlan Színház révészei szeretettel meghívunk
  egy magas szintű képzésre\, melyen elsajátíthatod a Láthatatlan
  Színház működéséhez szükséges technikákat\, mint színészme
 sterség\, hangképzés\, mozgás és önismeret\, valamint részt veh
 etsz a vezető révészek által készülő új darab megalkotásában
 .
LOCATION:Budapest
CONTACT:Körmendy Petra
CLASS:PUBLIC
END:VEVENT
END:VCALENDAR
