BEGIN:VCALENDAR
PRODID:-//AT Content Types//AT Event//EN
VERSION:1.0
BEGIN:VEVENT
DTSTART:20091009T173000Z
DTEND:20091009T200000Z
DCREATED:20091008T073405Z
UID:ATEvent-cbadac6da8eb282810e72894bdf9d2eb
SEQUENCE:0
LAST-MODIFIED:20091008T073615Z
SUMMARY:Johnny K. Palmer és a BPA Gospel Team a Take5 Jazz Klubban!
DESCRIPTION:A Soul & Gospel klubban október 9-én 19.30-kor Jonny K. 
 Palmer & Band\, és Gyárfás István és a BPA Gospel team lép fel! 
 Johnny első alkalommal adja elő Magyarországon a készülő albuma 
 dalait! A zenei stílusa az amerikai RnB Soul `es Pop. A dalokon keres
 ztül a mindennapi életről mesél és a saját tapasztalatait osztja
  meg velünk.
LOCATION:Budapest
PRIORITY:3
TRANSP:0
END:VEVENT
END:VCALENDAR
