BEGIN:VCALENDAR
PRODID:-//AT Content Types//AT Event//EN
VERSION:1.0
BEGIN:VEVENT
DTSTART:20090609T080000Z
DTEND:20090609T130000Z
DCREATED:20090605T132835Z
UID:ATEvent-71fbff4a543860df2aa1bc165940903b
SEQUENCE:0
LAST-MODIFIED:20090605T132953Z
SUMMARY:Egyházmegyei Elnökségek Találkozója
DESCRIPTION:Budapest – Északi Egyházkerület Püspöki Hivatala\, 
 Szilágyi Erzsébet Fasor
LOCATION:Budapest
PRIORITY:3
TRANSP:0
END:VEVENT
END:VCALENDAR
