BEGIN:VCALENDAR
PRODID:-//AT Content Types//AT Event//EN
VERSION:1.0
BEGIN:VEVENT
DTSTART:20091120T170000Z
DTEND:20091120T180000Z
DCREATED:20091008T073005Z
UID:ATEvent-5145e96126ab5833d5685ab4a56dbd2c
SEQUENCE:0
LAST-MODIFIED:20091008T073056Z
SUMMARY:AZ EGYHÁZAK SZEREPE SZÁZADUNKBAN
DESCRIPTION:Szeretettel meghívjuk a TF ESTÉK következő rendezvény
 ére\, amelynek témája\: AZ EGYHÁZAK SZEREPE SZÁZADUNKBAN.
LOCATION:Budapest
PRIORITY:3
TRANSP:0
END:VEVENT
END:VCALENDAR
