BEGIN:VCALENDAR
PRODID:-//AT Content Types//AT Event//EN
VERSION:2.0
METHOD:PUBLISH
BEGIN:VEVENT
DTSTAMP:20260426T031128Z
CREATED:20081201T154415Z
UID:ATEvent-8743d6c21da5dbeff1f8fed147db6d60
LAST-MODIFIED:20081201T172907Z
SUMMARY:SvÃ©d ifjÃºsÃ¡gi Ã©nekkar Luca koncertje PestÃºjhelyen
DTSTART:20081206T170000Z
DTEND:20081206T182500Z
DESCRIPTION:A SvÃ©dorszÃ¡gban hagyomÃ¡nyos Luca napi mÅ±sorral Ã©rkezi
 k egy svÃ©d ifjÃºsÃ¡gi Ã©nekkar PestÃºjhelyre.\nElÅ‘tte a gyerekek szÃ
 ¡mÃ¡ra MikulÃ¡s napi program fÃ©l 5-tÅ‘l.
LOCATION:PestÃºjhelyi EvangÃ©likus Templom\, Bp. XV. Templom tÃ©r 10.
CATEGORIES:koncert
CONTACT:SzabÃ³ AndrÃ¡s\, szabo.andras@freemail.hu
URL:http://pestujhely.lutheran.hu/aktualis.html
CLASS:PUBLIC
END:VEVENT
END:VCALENDAR
