BEGIN:VCALENDAR
PRODID:-//AT Content Types//AT Event//EN
VERSION:1.0
BEGIN:VEVENT
DTSTART:20081207T170000Z
DTEND:20081207T183000Z
DCREATED:20081205T141051Z
UID:ATEvent-c2ef28cffbc1edc6e5b4b46aff0ae87b
SEQUENCE:0
LAST-MODIFIED:20081205T145546Z
SUMMARY:Zenei áhitat
DESCRIPTION:Pécsi Kamarakórus fellépése "Luther Rózsa Alapítván
 y" felkérésére
LOCATION:Evangélikus templom Pécs\, Dischka Gy. u 4-6.
PRIORITY:3
TRANSP:0
END:VEVENT
END:VCALENDAR
