BEGIN:VCALENDAR
PRODID:-//AT Content Types//AT Event//EN
VERSION:2.0
METHOD:PUBLISH
BEGIN:VEVENT
DTSTAMP:20260424T234156Z
CREATED:20120911T162908Z
UID:ATEvent-d894cec99e8403b56d9ada9dc1857c1c
LAST-MODIFIED:20120912T063908Z
SUMMARY:Asztali beszÃ©lgetÃ©sek... - ERDÃ‰LYI ZSUZSANNA Ã©s FABINY TIBOR disputÃ¡ja
DTSTART:20121025T160000Z
DTEND:20121025T173000Z
DESCRIPTION:TÃ©ma\: "SzÃ¡zadokon Ã¡t paptalanÃºl" avagy a huszadik szÃ
 ¡zad mÃ¡sodik felÃ©nek szubjektÃ­v megkÃ¶zelÃ­tÃ©se
LOCATION:Budapest\, PetÅ‘fi Irodalmi MÃºzeum dÃ­szterme
CATEGORIES:Asztali BeszÃ©lgetÃ©sek
CONTACT:Asztali BeszÃ©lgetÃ©sek KulturÃ¡lis AlapÃ­tvÃ¡ny\, asztali@yahoo.com
URL:http://asztali.lutheran.hu
CLASS:PUBLIC
END:VEVENT
END:VCALENDAR
